BEGIN:VCALENDAR
VERSION:2.0
PRODID:-//Grundschule Rommelsbach - ECPv6.10.2//NONSGML v1.0//EN
CALSCALE:GREGORIAN
METHOD:PUBLISH
X-ORIGINAL-URL:https://www.gs-rommelsbach.de
X-WR-CALDESC:Veranstaltungen für Grundschule Rommelsbach
REFRESH-INTERVAL;VALUE=DURATION:PT1H
X-Robots-Tag:noindex
X-PUBLISHED-TTL:PT1H
BEGIN:VTIMEZONE
TZID:Europe/Berlin
BEGIN:DAYLIGHT
TZOFFSETFROM:+0100
TZOFFSETTO:+0200
TZNAME:CEST
DTSTART:20250330T010000
END:DAYLIGHT
BEGIN:STANDARD
TZOFFSETFROM:+0200
TZOFFSETTO:+0100
TZNAME:CET
DTSTART:20251026T010000
END:STANDARD
END:VTIMEZONE
BEGIN:VEVENT
DTSTART;TZID=Europe/Berlin:20250527T000000
DTEND;TZID=Europe/Berlin:20250527T235959
DTSTAMP:20260422T103719
CREATED:20241201T161434Z
LAST-MODIFIED:20241201T161435Z
UID:18033-1748304000-1748390399@www.gs-rommelsbach.de
SUMMARY:Spiel- und Sporttag
DESCRIPTION:
URL:https://www.gs-rommelsbach.de/termin/spiel-und-sporttag/
END:VEVENT
BEGIN:VEVENT
DTSTART;TZID=Europe/Berlin:20250529T000000
DTEND;TZID=Europe/Berlin:20250529T235959
DTSTAMP:20260422T103719
CREATED:20241201T161518Z
LAST-MODIFIED:20241201T161519Z
UID:18035-1748476800-1748563199@www.gs-rommelsbach.de
SUMMARY:Christi Himmelfahrt
DESCRIPTION:
URL:https://www.gs-rommelsbach.de/termin/christi-himmelfahrt/
END:VEVENT
BEGIN:VEVENT
DTSTART;TZID=Europe/Berlin:20250530T000000
DTEND;TZID=Europe/Berlin:20250530T235959
DTSTAMP:20260422T103719
CREATED:20241201T161558Z
LAST-MODIFIED:20241201T161559Z
UID:18037-1748563200-1748649599@www.gs-rommelsbach.de
SUMMARY:Beweglicher Ferientag
DESCRIPTION:
URL:https://www.gs-rommelsbach.de/termin/beweglicher-ferientag-3/
END:VEVENT
END:VCALENDAR