BEGIN:VCALENDAR
VERSION:2.0
PRODID:-//Grundschule Rommelsbach - ECPv6.10.2//NONSGML v1.0//EN
CALSCALE:GREGORIAN
METHOD:PUBLISH
X-ORIGINAL-URL:https://www.gs-rommelsbach.de
X-WR-CALDESC:Veranstaltungen für Grundschule Rommelsbach
REFRESH-INTERVAL;VALUE=DURATION:PT1H
X-Robots-Tag:noindex
X-PUBLISHED-TTL:PT1H
BEGIN:VTIMEZONE
TZID:Europe/Berlin
BEGIN:DAYLIGHT
TZOFFSETFROM:+0100
TZOFFSETTO:+0200
TZNAME:CEST
DTSTART:20250330T010000
END:DAYLIGHT
BEGIN:STANDARD
TZOFFSETFROM:+0200
TZOFFSETTO:+0100
TZNAME:CET
DTSTART:20251026T010000
END:STANDARD
END:VTIMEZONE
BEGIN:VEVENT
DTSTART;TZID=Europe/Berlin:20250303T070000
DTEND;TZID=Europe/Berlin:20250307T160000
DTSTAMP:20260422T132130
CREATED:20240201T190119Z
LAST-MODIFIED:20240201T190120Z
UID:16934-1740985200-1741363200@www.gs-rommelsbach.de
SUMMARY:Ferienbetreuung in den Faschingsferien
DESCRIPTION:Programm wird noch veröffentlicht. Anmeldeformular findet sich unter „Formulare und Downloads“.
URL:https://www.gs-rommelsbach.de/termin/ferienbetreuung-in-den-faschingsferien/
END:VEVENT
BEGIN:VEVENT
DTSTART;TZID=Europe/Berlin:20250303T080000
DTEND;TZID=Europe/Berlin:20250307T170000
DTSTAMP:20260422T132130
CREATED:20240122T162840Z
LAST-MODIFIED:20240122T162841Z
UID:16894-1740988800-1741366800@www.gs-rommelsbach.de
SUMMARY:Winterferien
DESCRIPTION:Schulbeginn nach den Ferien: 10.3. 2025 nach Stundenplan
URL:https://www.gs-rommelsbach.de/termin/winterferien/
END:VEVENT
BEGIN:VEVENT
DTSTART;TZID=Europe/Berlin:20250317T080000
DTEND;TZID=Europe/Berlin:20250321T110000
DTSTAMP:20260422T132130
CREATED:20250120T144417Z
LAST-MODIFIED:20250120T144421Z
UID:18105-1742198400-1742554800@www.gs-rommelsbach.de
SUMMARY:Mathe-Aktiv-Woche
DESCRIPTION:In der Mathe-Aktiv-Woche können sich die Kinder an vielen Stationen an unterschiedliche mathematische Herausforderungen wagen.
URL:https://www.gs-rommelsbach.de/termin/mathe-aktiv-woche/
END:VEVENT
END:VCALENDAR