BEGIN:VCALENDAR
VERSION:2.0
PRODID:-//Grundschule Rommelsbach - ECPv6.10.2//NONSGML v1.0//EN
CALSCALE:GREGORIAN
METHOD:PUBLISH
X-ORIGINAL-URL:https://www.gs-rommelsbach.de
X-WR-CALDESC:Veranstaltungen für Grundschule Rommelsbach
REFRESH-INTERVAL;VALUE=DURATION:PT1H
X-Robots-Tag:noindex
X-PUBLISHED-TTL:PT1H
BEGIN:VTIMEZONE
TZID:Europe/Berlin
BEGIN:DAYLIGHT
TZOFFSETFROM:+0100
TZOFFSETTO:+0200
TZNAME:CEST
DTSTART:20260329T010000
END:DAYLIGHT
BEGIN:STANDARD
TZOFFSETFROM:+0200
TZOFFSETTO:+0100
TZNAME:CET
DTSTART:20261025T010000
END:STANDARD
END:VTIMEZONE
BEGIN:VEVENT
DTSTART;TZID=Europe/Berlin:20260407T080000
DTEND;TZID=Europe/Berlin:20260410T160000
DTSTAMP:20260421T180245
CREATED:20250917T145106Z
LAST-MODIFIED:20250917T145129Z
UID:18455-1775548800-1775836800@www.gs-rommelsbach.de
SUMMARY:Ferienbetreuung Osterferien
DESCRIPTION:Programm folgt noch. \n\n\n\nWeitere Informationen und Anmeldungsformulare unter: https://www.gs-rommelsbach.de/ferien/ und https://www.gs-rommelsbach.de/foerderverein/formulare-und-downloads/
URL:https://www.gs-rommelsbach.de/termin/ferienbetreuung-osterferien/
END:VEVENT
BEGIN:VEVENT
DTSTART;TZID=Europe/Berlin:20260410T080000
DTEND;TZID=Europe/Berlin:20260410T170000
DTSTAMP:20260421T180245
CREATED:20250917T143338Z
LAST-MODIFIED:20250917T143340Z
UID:18438-1775808000-1775840400@www.gs-rommelsbach.de
SUMMARY:Osterferien
DESCRIPTION:Schulbeginn nach den Osterferien: Montag\, der 13. April nach Stundenplan
URL:https://www.gs-rommelsbach.de/termin/osterferien-3/
END:VEVENT
END:VCALENDAR