BEGIN:VCALENDAR
VERSION:2.0
PRODID:-//Grundschule Rommelsbach - ECPv6.10.2//NONSGML v1.0//EN
CALSCALE:GREGORIAN
METHOD:PUBLISH
X-WR-CALNAME:Grundschule Rommelsbach
X-ORIGINAL-URL:https://www.gs-rommelsbach.de
X-WR-CALDESC:Veranstaltungen für Grundschule Rommelsbach
REFRESH-INTERVAL;VALUE=DURATION:PT1H
X-Robots-Tag:noindex
X-PUBLISHED-TTL:PT1H
BEGIN:VTIMEZONE
TZID:Europe/Berlin
BEGIN:DAYLIGHT
TZOFFSETFROM:+0100
TZOFFSETTO:+0200
TZNAME:CEST
DTSTART:20250330T010000
END:DAYLIGHT
BEGIN:STANDARD
TZOFFSETFROM:+0200
TZOFFSETTO:+0100
TZNAME:CET
DTSTART:20251026T010000
END:STANDARD
END:VTIMEZONE
BEGIN:VEVENT
DTSTART;TZID=Europe/Berlin:20251219T094500
DTEND;TZID=Europe/Berlin:20251219T110500
DTSTAMP:20260422T001740
CREATED:20250917T142108Z
LAST-MODIFIED:20250917T142110Z
UID:18424-1766137500-1766142300@www.gs-rommelsbach.de
SUMMARY:Weihnachtsfeier
DESCRIPTION:Am letzten Schultag vor den Ferien gibt es eine gemeinsame Weihnachtsfeier.  \n\n\n\nBeginn ist um 9.45 Uhr in der Aula. Eltern sind herzlich Willkommen als Gäste. \n\n\n\nUnterrichtsende um 11.05 Uhr
URL:https://www.gs-rommelsbach.de/termin/weihnachtsfeier-2/
END:VEVENT
END:VCALENDAR