BEGIN:VCALENDAR
VERSION:2.0
PRODID:-//Grundschule Rommelsbach - ECPv6.10.2//NONSGML v1.0//EN
CALSCALE:GREGORIAN
METHOD:PUBLISH
X-WR-CALNAME:Grundschule Rommelsbach
X-ORIGINAL-URL:https://www.gs-rommelsbach.de
X-WR-CALDESC:Veranstaltungen für Grundschule Rommelsbach
REFRESH-INTERVAL;VALUE=DURATION:PT1H
X-Robots-Tag:noindex
X-PUBLISHED-TTL:PT1H
BEGIN:VTIMEZONE
TZID:Europe/Berlin
BEGIN:DAYLIGHT
TZOFFSETFROM:+0100
TZOFFSETTO:+0200
TZNAME:CEST
DTSTART:20250330T010000
END:DAYLIGHT
BEGIN:STANDARD
TZOFFSETFROM:+0200
TZOFFSETTO:+0100
TZNAME:CET
DTSTART:20251026T010000
END:STANDARD
END:VTIMEZONE
BEGIN:VEVENT
DTSTART;TZID=Europe/Berlin:20251215T080000
DTEND;TZID=Europe/Berlin:20251215T082000
DTSTAMP:20260422T001748
CREATED:20250917T141810Z
LAST-MODIFIED:20251018T122532Z
UID:18420-1765785600-1765786800@www.gs-rommelsbach.de
SUMMARY:Adventssingen
DESCRIPTION:Unser traditionelles Adventssingen findet auch in diesem Jahr statt. Beginn ist um 8 Uhr in der Aula. Eltern sind als Gäste herzlich eingeladen.
URL:https://www.gs-rommelsbach.de/termin/aadventssingen/
END:VEVENT
END:VCALENDAR