BEGIN:VCALENDAR
VERSION:2.0
PRODID:-//Grundschule Rommelsbach - ECPv6.10.2//NONSGML v1.0//EN
CALSCALE:GREGORIAN
METHOD:PUBLISH
X-WR-CALNAME:Grundschule Rommelsbach
X-ORIGINAL-URL:https://www.gs-rommelsbach.de
X-WR-CALDESC:Veranstaltungen für Grundschule Rommelsbach
REFRESH-INTERVAL;VALUE=DURATION:PT1H
X-Robots-Tag:noindex
X-PUBLISHED-TTL:PT1H
BEGIN:VTIMEZONE
TZID:Europe/Berlin
BEGIN:DAYLIGHT
TZOFFSETFROM:+0100
TZOFFSETTO:+0200
TZNAME:CEST
DTSTART:20250330T010000
END:DAYLIGHT
BEGIN:STANDARD
TZOFFSETFROM:+0200
TZOFFSETTO:+0100
TZNAME:CET
DTSTART:20251026T010000
END:STANDARD
END:VTIMEZONE
BEGIN:VEVENT
DTSTART;TZID=Europe/Berlin:20250731T080000
DTEND;TZID=Europe/Berlin:20250913T170000
DTSTAMP:20260422T065446
CREATED:20240122T163223Z
LAST-MODIFIED:20240122T163224Z
UID:16902-1753948800-1757782800@www.gs-rommelsbach.de
SUMMARY:Sommerferien
DESCRIPTION:Beginn des Unterrichts im neuen Schuljahr: 15. 9. 2025 um 7:45
URL:https://www.gs-rommelsbach.de/termin/sommerferien-2/
END:VEVENT
END:VCALENDAR