BEGIN:VCALENDAR
VERSION:2.0
PRODID:-//Grundschule Rommelsbach - ECPv6.10.2//NONSGML v1.0//EN
CALSCALE:GREGORIAN
METHOD:PUBLISH
X-WR-CALNAME:Grundschule Rommelsbach
X-ORIGINAL-URL:https://www.gs-rommelsbach.de
X-WR-CALDESC:Veranstaltungen für Grundschule Rommelsbach
REFRESH-INTERVAL;VALUE=DURATION:PT1H
X-Robots-Tag:noindex
X-PUBLISHED-TTL:PT1H
BEGIN:VTIMEZONE
TZID:Europe/Berlin
BEGIN:DAYLIGHT
TZOFFSETFROM:+0100
TZOFFSETTO:+0200
TZNAME:CEST
DTSTART:20250330T010000
END:DAYLIGHT
BEGIN:STANDARD
TZOFFSETFROM:+0200
TZOFFSETTO:+0100
TZNAME:CET
DTSTART:20251026T010000
END:STANDARD
END:VTIMEZONE
BEGIN:VEVENT
DTSTART;TZID=Europe/Berlin:20250701T080000
DTEND;TZID=Europe/Berlin:20250701T120000
DTSTAMP:20260422T084746
CREATED:20250120T144702Z
LAST-MODIFIED:20250120T144706Z
UID:18109-1751356800-1751371200@www.gs-rommelsbach.de
SUMMARY:Bundesjugendspiele
DESCRIPTION:An diesem Tag finden die Bundesjugendspiele der Grundschule Rommelsbach statt. Ausweichtermin ist Dienstag\, der 8. Juli.
URL:https://www.gs-rommelsbach.de/termin/bundesjugendspiele/
END:VEVENT
END:VCALENDAR