BEGIN:VCALENDAR
VERSION:2.0
PRODID:-//Grundschule Rommelsbach - ECPv6.10.2//NONSGML v1.0//EN
CALSCALE:GREGORIAN
METHOD:PUBLISH
X-ORIGINAL-URL:https://www.gs-rommelsbach.de
X-WR-CALDESC:Veranstaltungen für Grundschule Rommelsbach
REFRESH-INTERVAL;VALUE=DURATION:PT1H
X-Robots-Tag:noindex
X-PUBLISHED-TTL:PT1H
BEGIN:VTIMEZONE
TZID:Europe/Berlin
BEGIN:DAYLIGHT
TZOFFSETFROM:+0100
TZOFFSETTO:+0200
TZNAME:CEST
DTSTART:20250330T010000
END:DAYLIGHT
BEGIN:STANDARD
TZOFFSETFROM:+0200
TZOFFSETTO:+0100
TZNAME:CET
DTSTART:20251026T010000
END:STANDARD
END:VTIMEZONE
BEGIN:VEVENT
DTSTART;TZID=Europe/Berlin:20250428T183000
DTEND;TZID=Europe/Berlin:20250428T183000
DTSTAMP:20260422T115221
CREATED:20250317T152439Z
LAST-MODIFIED:20250329T104438Z
UID:18187-1745865000-1745865000@www.gs-rommelsbach.de
SUMMARY:Medieninformationsabend
DESCRIPTION:Liebe Eltern der Klassen 1 bis 4\, digitale Medien sind heute fester Bestandteil unseres Alltags. Kinder und Jugendliche wachsen selbstverständlich damit auf – mit all den Chancen\, aber auch Herausforderungen\, die das digitale Zeitalter mit sich bringt. Um Ihr Kind bestmöglich in der Mediennutzung zu begleiten\, ist es wichtig\, sich mit den Besonderheiten digitaler Medien vertraut zu machen\, einen bewussten und kritischen Umgang zu fördern und mögliche Risiken zu thematisieren. Wir laden Sie herzlich zu unserem zweiten Themenabend ein\, bei dem wir Ihnen wertvolle Informationen und praktische Tipps für den Familienalltag an die Hand geben. Im Fokus stehen unter anderem folgende Themen: \n\n\n\n• Medienzeit sinnvoll begleiten: Stress durch klare Regeln vermeiden\, Medien kreativ und altersgerecht nutzen • YouTube\, TikTok & Co.: Was steckt hinter den Algorithmen? • Virtuelle Herausforderungen: Von der „Goldfisch-Challenge“ bis zu süchtig machenden Apps • KI-generierte Inhalte: Harmlos oder beunruhigend? • Unsere Empfehlungen\, nützliche Apps\, Lernspiele und hilfreiche Links  \n\n\n\nWann & Wo? Montag\, 28. April 2025\, 18.30 Uhr in der Grundschule Rommelsbach  \n\n\n\n\n\n\n\nAuf Ihre Teilnahme freuen sich Solveig Schneider & Julia Ozanna Die Anmeldung ist bis Mittwoch\, dem 9. April 2025\, möglich – entweder per Rücklaufzettel oder per E-Mail an: gs-rommelsbach@reutlingen.de  \n\n\n\n****************************************************************************************************** Anmeldung zum Medieninformationsabend: Wir nehmen am Montag\, den 28. April 2025\, 18.30 Uhr mit ……. Personen teil. Name: …………………………………………… Klasse: ……………. Datum: …………….. E-Mail: …………………………………………… 
URL:https://www.gs-rommelsbach.de/termin/medieninformationsabend-fuer-eltern-der-3-und-4-klasse/
END:VEVENT
END:VCALENDAR