BEGIN:VCALENDAR
VERSION:2.0
PRODID:-//Grundschule Rommelsbach - ECPv6.10.2//NONSGML v1.0//EN
CALSCALE:GREGORIAN
METHOD:PUBLISH
X-WR-CALNAME:Grundschule Rommelsbach
X-ORIGINAL-URL:https://www.gs-rommelsbach.de
X-WR-CALDESC:Veranstaltungen für Grundschule Rommelsbach
REFRESH-INTERVAL;VALUE=DURATION:PT1H
X-Robots-Tag:noindex
X-PUBLISHED-TTL:PT1H
BEGIN:VTIMEZONE
TZID:Europe/Berlin
BEGIN:DAYLIGHT
TZOFFSETFROM:+0100
TZOFFSETTO:+0200
TZNAME:CEST
DTSTART:20240331T010000
END:DAYLIGHT
BEGIN:STANDARD
TZOFFSETFROM:+0200
TZOFFSETTO:+0100
TZNAME:CET
DTSTART:20241027T010000
END:STANDARD
BEGIN:DAYLIGHT
TZOFFSETFROM:+0100
TZOFFSETTO:+0200
TZNAME:CEST
DTSTART:20250330T010000
END:DAYLIGHT
BEGIN:STANDARD
TZOFFSETFROM:+0200
TZOFFSETTO:+0100
TZNAME:CET
DTSTART:20251026T010000
END:STANDARD
END:VTIMEZONE
BEGIN:VEVENT
DTSTART;TZID=Europe/Berlin:20241220T080000
DTEND;TZID=Europe/Berlin:20250106T170000
DTSTAMP:20260422T195650
CREATED:20240122T162730Z
LAST-MODIFIED:20240122T162731Z
UID:16892-1734681600-1736182800@www.gs-rommelsbach.de
SUMMARY:Weihnachtsferien
DESCRIPTION:Schulbeginn nach den Ferien: 7.1. 2025 nach Stundenplan
URL:https://www.gs-rommelsbach.de/termin/weihnachtsferien/
END:VEVENT
END:VCALENDAR