BEGIN:VCALENDAR
VERSION:2.0
PRODID:-//Grundschule Rommelsbach - ECPv6.10.2//NONSGML v1.0//EN
CALSCALE:GREGORIAN
METHOD:PUBLISH
X-WR-CALNAME:Grundschule Rommelsbach
X-ORIGINAL-URL:https://www.gs-rommelsbach.de
X-WR-CALDESC:Veranstaltungen für Grundschule Rommelsbach
REFRESH-INTERVAL;VALUE=DURATION:PT1H
X-Robots-Tag:noindex
X-PUBLISHED-TTL:PT1H
BEGIN:VTIMEZONE
TZID:Europe/Berlin
BEGIN:DAYLIGHT
TZOFFSETFROM:+0100
TZOFFSETTO:+0200
TZNAME:CEST
DTSTART:20240331T010000
END:DAYLIGHT
BEGIN:STANDARD
TZOFFSETFROM:+0200
TZOFFSETTO:+0100
TZNAME:CET
DTSTART:20241027T010000
END:STANDARD
END:VTIMEZONE
BEGIN:VEVENT
DTSTART;TZID=Europe/Berlin:20241028T070000
DTEND;TZID=Europe/Berlin:20241031T160000
DTSTAMP:20260422T213600
CREATED:20240201T185941Z
LAST-MODIFIED:20240201T185942Z
UID:16932-1730098800-1730390400@www.gs-rommelsbach.de
SUMMARY:Ferienbetreuung in den Herbstferien
DESCRIPTION:Programm wird noch veröffentlicht. Anmeldeformular findet sich unter „Formulare und Downloads“.
URL:https://www.gs-rommelsbach.de/termin/ferienbetreuung-in-den-herbstferien/
END:VEVENT
BEGIN:VEVENT
DTSTART;TZID=Europe/Berlin:20241028T080000
DTEND;TZID=Europe/Berlin:20241101T170000
DTSTAMP:20260422T213600
CREATED:20240122T162629Z
LAST-MODIFIED:20240122T162630Z
UID:16890-1730102400-1730480400@www.gs-rommelsbach.de
SUMMARY:Herbstferien
DESCRIPTION:Schulbeginn nach den Ferien: 4.11. 2024 nach Stundenplan
URL:https://www.gs-rommelsbach.de/termin/herbstferien/
END:VEVENT
END:VCALENDAR